{
 "currentVersion": 11.4,
 "serviceDescription": "Imagery/1955_Guilford_Aerial",
 "name": "Imagery/1955_Guilford_Aerial",
 "description": "",
 "extent": {
  "xmin": 1686974.7160841078,
  "ymin": 774503.4298863792,
  "xmax": 1845922.3576897183,
  "ymax": 921167.2713743416,
  "spatialReference": {
   "wkid": 102719,
   "latestWkid": 2264
  }
 },
 "initialExtent": {
  "xmin": 1686974.7160841078,
  "ymin": 774503.4298863792,
  "xmax": 1845922.3576897183,
  "ymax": 921167.2713743416,
  "spatialReference": {
   "wkid": 102719,
   "latestWkid": 2264
  }
 },
 "fullExtent": {
  "xmin": 1686974.7160841078,
  "ymin": 774503.4298863792,
  "xmax": 1845922.3576897183,
  "ymax": 921167.2713743416,
  "spatialReference": {
   "wkid": 102719,
   "latestWkid": 2264
  }
 },
 "sortableFields": "MinPS,MaxPS,LowPS,HighPS,CenterX,CenterY,ZOrder,Shape_Length,Shape_Area",
 "bandCount": 1,
 "pixelType": "U8",
 "minValues": [
  42
 ],
 "maxValues": [
  248
 ],
 "meanValues": [
  144.3666518762623
 ],
 "stdvValues": [
  27.145058576815178
 ],
 "hasMultidimensions": false,
 "pixelSizeX": 2.1314940339489947,
 "pixelSizeY": 2.1314940339489943,
 "meanPixelSize": 0.6496806809090155,
 "datasetFormat": "AMD",
 "uncompressedSize": 5131081368,
 "blockWidth": 2048,
 "blockHeight": 256,
 "compressionType": "None",
 "bandNames": [
  "Band_1"
 ],
 "allowCopy": true,
 "allowAnalysis": true,
 "itemAccess": false,
 "inspectionCapabilities": "",
 "minPixelSize": 0,
 "maxPixelSize": 222.2222222222222,
 "copyrightText": "",
 "serviceDataType": "esriImageServiceDataTypeGeneric",
 "serviceSourceType": "esriImageServiceSourceTypeMosaicDataset",
 "objectIdField": "OBJECTID",
 "fields": [
  {
   "name": "OBJECTID",
   "type": "esriFieldTypeOID",
   "alias": "OBJECTID",
   "domain": null
  },
  {
   "name": "Shape",
   "type": "esriFieldTypeGeometry",
   "alias": "Shape",
   "domain": null
  },
  {
   "name": "Name",
   "type": "esriFieldTypeString",
   "alias": "Name",
   "domain": null,
   "length": 200
  },
  {
   "name": "MinPS",
   "type": "esriFieldTypeDouble",
   "alias": "MinPS",
   "domain": null
  },
  {
   "name": "MaxPS",
   "type": "esriFieldTypeDouble",
   "alias": "MaxPS",
   "domain": null
  },
  {
   "name": "LowPS",
   "type": "esriFieldTypeDouble",
   "alias": "LowPS",
   "domain": null
  },
  {
   "name": "HighPS",
   "type": "esriFieldTypeDouble",
   "alias": "HighPS",
   "domain": null
  },
  {
   "name": "Category",
   "type": "esriFieldTypeInteger",
   "alias": "Category",
   "domain": {
    "type": "codedValue",
    "name": "MosaicCatalogItemCategoryDomain",
    "description": "Catalog item categories.",
    "codedValues": [
     {
      "name": "Unknown",
      "code": 0
     },
     {
      "name": "Primary",
      "code": 1
     },
     {
      "name": "Overview",
      "code": 2
     },
     {
      "name": "Unprocessed Overview",
      "code": 3
     },
     {
      "name": "Partial Overview",
      "code": 4
     },
     {
      "name": "Inactive",
      "code": 5
     },
     {
      "name": "Uploaded",
      "code": 253
     },
     {
      "name": "Incomplete",
      "code": 254
     },
     {
      "name": "Custom",
      "code": 255
     }
    ],
    "mergePolicy": "esriMPTDefaultValue",
    "splitPolicy": "esriSPTDefaultValue"
   }
  },
  {
   "name": "Tag",
   "type": "esriFieldTypeString",
   "alias": "Tag",
   "domain": null,
   "length": 100
  },
  {
   "name": "GroupName",
   "type": "esriFieldTypeString",
   "alias": "GroupName",
   "domain": null,
   "length": 100
  },
  {
   "name": "ProductName",
   "type": "esriFieldTypeString",
   "alias": "ProductName",
   "domain": null,
   "length": 100
  },
  {
   "name": "CenterX",
   "type": "esriFieldTypeDouble",
   "alias": "CenterX",
   "domain": null
  },
  {
   "name": "CenterY",
   "type": "esriFieldTypeDouble",
   "alias": "CenterY",
   "domain": null
  },
  {
   "name": "ZOrder",
   "type": "esriFieldTypeInteger",
   "alias": "ZOrder",
   "domain": null
  },
  {
   "name": "Shape_Length",
   "type": "esriFieldTypeDouble",
   "alias": "Shape_Length",
   "domain": null
  },
  {
   "name": "Shape_Area",
   "type": "esriFieldTypeDouble",
   "alias": "Shape_Area",
   "domain": null
  }
 ],
 "capabilities": "Catalog,Image,Metadata",
 "defaultMosaicMethod": "Northwest",
 "allowedMosaicMethods": "NorthWest,Center,LockRaster,ByAttribute,Nadir,Viewpoint,Seamline,None",
 "sortField": "",
 "sortValue": null,
 "sortAscending": true,
 "mosaicOperator": "First",
 "maxDownloadSizeLimit": 2048,
 "defaultCompressionQuality": 75,
 "defaultResamplingMethod": "Bilinear",
 "maxImageHeight": 4096,
 "maxImageWidth": 4096,
 "maxRecordCount": 1000,
 "maxDownloadImageCount": 20,
 "maxMosaicImageCount": 20,
 "singleFusedMapCache": true,
 "tileInfo": {
  "rows": 256,
  "cols": 256,
  "dpi": 96,
  "format": "MIXED",
  "compressionQuality": 75,
  "origin": {
   "x": -121841900,
   "y": 154024800
  },
  "spatialReference": {
   "wkid": 102719,
   "latestWkid": 2264
  },
  "lods": [
   {
    "level": 0,
    "resolution": 222.2222222222222,
    "scale": 256000
   },
   {
    "level": 1,
    "resolution": 111.1111111111111,
    "scale": 128000
   },
   {
    "level": 2,
    "resolution": 55.55555555555555,
    "scale": 64000
   },
   {
    "level": 3,
    "resolution": 27.777777777777775,
    "scale": 32000
   },
   {
    "level": 4,
    "resolution": 13.888888888888888,
    "scale": 16000
   },
   {
    "level": 5,
    "resolution": 6.944444444444444,
    "scale": 8000
   },
   {
    "level": 6,
    "resolution": 3.472222222222222,
    "scale": 4000
   },
   {
    "level": 7,
    "resolution": 1.736111111111111,
    "scale": 2000
   },
   {
    "level": 8,
    "resolution": 0.8680555555555555,
    "scale": 1000
   },
   {
    "level": 9,
    "resolution": 0.43402777777777773,
    "scale": 500
   }
  ]
 },
 "storageInfo": {
  "storageFormat": "esriMapCacheStorageModeCompactV2",
  "packetSize": 128
 },
 "cacheType": "Map",
 "allowRasterFunction": true,
 "rasterFunctionInfos": [
  {
   "name": "None",
   "description": "",
   "help": ""
  }
 ],
 "rasterTypeInfos": [
  {
   "name": "Raster Dataset",
   "description": "Supports all ArcGIS Raster Datasets",
   "help": ""
  }
 ],
 "mensurationCapabilities": "None",
 "hasHistograms": true,
 "hasColormap": false,
 "hasRasterAttributeTable": false,
 "minScale": 256000,
 "maxScale": 0,
 "minLOD": 0,
 "maxLOD": 9,
 "exportTilesAllowed": false,
 "supportsStatistics": true,
 "supportsAdvancedQueries": true,
 "editFieldsInfo": null,
 "ownershipBasedAccessControlForRasters": null,
 "allowComputeTiePoints": false,
 "useStandardizedQueries": true,
 "advancedQueryCapabilities": {
  "useStandardizedQueries": true,
  "supportsStatistics": true,
  "supportsOrderBy": true,
  "supportsDistinct": true,
  "supportsPagination": true
 },
 "spatialReference": {
  "wkid": 102719,
  "latestWkid": 2264
 },
 "resampling": true
}
